BEGIN:VCALENDAR
VERSION:2.0
PRODID:-//MSC Harsewinkel - ECPv6.15.20//NONSGML v1.0//EN
CALSCALE:GREGORIAN
METHOD:PUBLISH
X-WR-CALNAME:MSC Harsewinkel
X-ORIGINAL-URL:https://msc-harsewinkel.de
X-WR-CALDESC:Veranstaltungen für MSC Harsewinkel
REFRESH-INTERVAL;VALUE=DURATION:PT1H
X-Robots-Tag:noindex
X-PUBLISHED-TTL:PT1H
BEGIN:VTIMEZONE
TZID:Europe/Berlin
BEGIN:DAYLIGHT
TZOFFSETFROM:+0100
TZOFFSETTO:+0200
TZNAME:CEST
DTSTART:20250330T010000
END:DAYLIGHT
BEGIN:STANDARD
TZOFFSETFROM:+0200
TZOFFSETTO:+0100
TZNAME:CET
DTSTART:20251026T010000
END:STANDARD
BEGIN:DAYLIGHT
TZOFFSETFROM:+0100
TZOFFSETTO:+0200
TZNAME:CEST
DTSTART:20260329T010000
END:DAYLIGHT
BEGIN:STANDARD
TZOFFSETFROM:+0200
TZOFFSETTO:+0100
TZNAME:CET
DTSTART:20261025T010000
END:STANDARD
BEGIN:DAYLIGHT
TZOFFSETFROM:+0100
TZOFFSETTO:+0200
TZNAME:CEST
DTSTART:20270328T010000
END:DAYLIGHT
BEGIN:STANDARD
TZOFFSETFROM:+0200
TZOFFSETTO:+0100
TZNAME:CET
DTSTART:20271031T010000
END:STANDARD
END:VTIMEZONE
BEGIN:VEVENT
DTSTART;TZID=Europe/Berlin:20261002T133000
DTEND;TZID=Europe/Berlin:20261002T190000
DTSTAMP:20260420T103930
CREATED:20260420T005607Z
LAST-MODIFIED:20260420T075651Z
UID:4755-1790947800-1790967600@msc-harsewinkel.de
SUMMARY:Privat- Kart & Pitbike Training
DESCRIPTION:
URL:https://msc-harsewinkel.de/event/privat-kart-pitbike-training-20/
END:VEVENT
BEGIN:VEVENT
DTSTART;TZID=Europe/Berlin:20261004T100000
DTEND;TZID=Europe/Berlin:20261004T170000
DTSTAMP:20260420T103930
CREATED:20260420T005607Z
LAST-MODIFIED:20260420T075651Z
UID:4756-1791108000-1791133200@msc-harsewinkel.de
SUMMARY:Verkehrsübungsplatz
DESCRIPTION:
URL:https://msc-harsewinkel.de/event/verkehrsuebungsplatz-13/
END:VEVENT
BEGIN:VEVENT
DTSTART;TZID=Europe/Berlin:20261009T133000
DTEND;TZID=Europe/Berlin:20261009T190000
DTSTAMP:20260420T103930
CREATED:20260420T005607Z
LAST-MODIFIED:20260420T075652Z
UID:4757-1791552600-1791572400@msc-harsewinkel.de
SUMMARY:Privat- Kart & Pitbike Training
DESCRIPTION:
URL:https://msc-harsewinkel.de/event/privat-kart-pitbike-training-21/
END:VEVENT
BEGIN:VEVENT
DTSTART;TZID=Europe/Berlin:20261011T100000
DTEND;TZID=Europe/Berlin:20261011T170000
DTSTAMP:20260420T103930
CREATED:20260420T005607Z
LAST-MODIFIED:20260420T075652Z
UID:4758-1791712800-1791738000@msc-harsewinkel.de
SUMMARY:Verkehrsübungsplatz
DESCRIPTION:
URL:https://msc-harsewinkel.de/event/verkehrsuebungsplatz-14/
END:VEVENT
BEGIN:VEVENT
DTSTART;TZID=Europe/Berlin:20261016T133000
DTEND;TZID=Europe/Berlin:20261016T190000
DTSTAMP:20260420T103930
CREATED:20260420T005607Z
LAST-MODIFIED:20260420T075652Z
UID:4759-1792157400-1792177200@msc-harsewinkel.de
SUMMARY:Privat- Kart & Pitbike Training
DESCRIPTION:
URL:https://msc-harsewinkel.de/event/privat-kart-pitbike-training-22/
END:VEVENT
BEGIN:VEVENT
DTSTART;TZID=Europe/Berlin:20261018T100000
DTEND;TZID=Europe/Berlin:20261018T170000
DTSTAMP:20260420T103930
CREATED:20260420T005607Z
LAST-MODIFIED:20260420T075652Z
UID:4760-1792317600-1792342800@msc-harsewinkel.de
SUMMARY:Verkehrsübungsplatz
DESCRIPTION:
URL:https://msc-harsewinkel.de/event/verkehrsuebungsplatz-15/
END:VEVENT
BEGIN:VEVENT
DTSTART;TZID=Europe/Berlin:20261023T133000
DTEND;TZID=Europe/Berlin:20261023T190000
DTSTAMP:20260420T103930
CREATED:20260420T005607Z
LAST-MODIFIED:20260420T075652Z
UID:4761-1792762200-1792782000@msc-harsewinkel.de
SUMMARY:Privat- Kart & Pitbike Training
DESCRIPTION:
URL:https://msc-harsewinkel.de/event/privat-kart-pitbike-training-23/
END:VEVENT
BEGIN:VEVENT
DTSTART;TZID=Europe/Berlin:20261025T100000
DTEND;TZID=Europe/Berlin:20261025T170000
DTSTAMP:20260420T103930
CREATED:20260420T005607Z
LAST-MODIFIED:20260420T075652Z
UID:4762-1792922400-1792947600@msc-harsewinkel.de
SUMMARY:Verkehrsübungsplatz
DESCRIPTION:
URL:https://msc-harsewinkel.de/event/verkehrsuebungsplatz-16/
END:VEVENT
END:VCALENDAR