BEGIN:VCALENDAR
VERSION:2.0
PRODID:-//MSC Harsewinkel - ECPv6.15.20//NONSGML v1.0//EN
CALSCALE:GREGORIAN
METHOD:PUBLISH
X-ORIGINAL-URL:https://msc-harsewinkel.de
X-WR-CALDESC:Veranstaltungen für MSC Harsewinkel
REFRESH-INTERVAL;VALUE=DURATION:PT1H
X-Robots-Tag:noindex
X-PUBLISHED-TTL:PT1H
BEGIN:VTIMEZONE
TZID:Europe/Berlin
BEGIN:DAYLIGHT
TZOFFSETFROM:+0100
TZOFFSETTO:+0200
TZNAME:CEST
DTSTART:20250330T010000
END:DAYLIGHT
BEGIN:STANDARD
TZOFFSETFROM:+0200
TZOFFSETTO:+0100
TZNAME:CET
DTSTART:20251026T010000
END:STANDARD
BEGIN:DAYLIGHT
TZOFFSETFROM:+0100
TZOFFSETTO:+0200
TZNAME:CEST
DTSTART:20260329T010000
END:DAYLIGHT
BEGIN:STANDARD
TZOFFSETFROM:+0200
TZOFFSETTO:+0100
TZNAME:CET
DTSTART:20261025T010000
END:STANDARD
BEGIN:DAYLIGHT
TZOFFSETFROM:+0100
TZOFFSETTO:+0200
TZNAME:CEST
DTSTART:20270328T010000
END:DAYLIGHT
BEGIN:STANDARD
TZOFFSETFROM:+0200
TZOFFSETTO:+0100
TZNAME:CET
DTSTART:20271031T010000
END:STANDARD
END:VTIMEZONE
BEGIN:VEVENT
DTSTART;TZID=Europe/Berlin:20261101T100000
DTEND;TZID=Europe/Berlin:20261101T170000
DTSTAMP:20260420T121437
CREATED:20260420T005621Z
LAST-MODIFIED:20260420T095630Z
UID:4763-1793527200-1793552400@msc-harsewinkel.de
SUMMARY:Verkehrsübungsplatz
DESCRIPTION:
URL:https://msc-harsewinkel.de/event/verkehrsuebungsplatz-17/
END:VEVENT
BEGIN:VEVENT
DTSTART;TZID=Europe/Berlin:20261108T100000
DTEND;TZID=Europe/Berlin:20261108T170000
DTSTAMP:20260420T121437
CREATED:20260420T005621Z
LAST-MODIFIED:20260420T095630Z
UID:4764-1794132000-1794157200@msc-harsewinkel.de
SUMMARY:Verkehrsübungsplatz
DESCRIPTION:
URL:https://msc-harsewinkel.de/event/verkehrsuebungsplatz-18/
END:VEVENT
BEGIN:VEVENT
DTSTART;TZID=Europe/Berlin:20261115T100000
DTEND;TZID=Europe/Berlin:20261115T170000
DTSTAMP:20260420T121437
CREATED:20260420T005621Z
LAST-MODIFIED:20260420T095630Z
UID:4765-1794736800-1794762000@msc-harsewinkel.de
SUMMARY:Verkehrsübungsplatz
DESCRIPTION:
URL:https://msc-harsewinkel.de/event/verkehrsuebungsplatz-19/
END:VEVENT
BEGIN:VEVENT
DTSTART;TZID=Europe/Berlin:20261122T100000
DTEND;TZID=Europe/Berlin:20261122T170000
DTSTAMP:20260420T121437
CREATED:20260420T005621Z
LAST-MODIFIED:20260420T095630Z
UID:4766-1795341600-1795366800@msc-harsewinkel.de
SUMMARY:Verkehrsübungsplatz
DESCRIPTION:
URL:https://msc-harsewinkel.de/event/verkehrsuebungsplatz-20/
END:VEVENT
BEGIN:VEVENT
DTSTART;TZID=Europe/Berlin:20261129T100000
DTEND;TZID=Europe/Berlin:20261129T170000
DTSTAMP:20260420T121437
CREATED:20260420T005621Z
LAST-MODIFIED:20260420T095630Z
UID:4767-1795946400-1795971600@msc-harsewinkel.de
SUMMARY:Verkehrsübungsplatz
DESCRIPTION:
URL:https://msc-harsewinkel.de/event/verkehrsuebungsplatz-21/
END:VEVENT
END:VCALENDAR