BEGIN:VCALENDAR
VERSION:2.0
PRODID:-//MSC Harsewinkel - ECPv6.15.20//NONSGML v1.0//EN
CALSCALE:GREGORIAN
METHOD:PUBLISH
X-WR-CALNAME:MSC Harsewinkel
X-ORIGINAL-URL:https://msc-harsewinkel.de
X-WR-CALDESC:Veranstaltungen für MSC Harsewinkel
REFRESH-INTERVAL;VALUE=DURATION:PT1H
X-Robots-Tag:noindex
X-PUBLISHED-TTL:PT1H
BEGIN:VTIMEZONE
TZID:Europe/Berlin
BEGIN:DAYLIGHT
TZOFFSETFROM:+0100
TZOFFSETTO:+0200
TZNAME:CEST
DTSTART:20260329T010000
END:DAYLIGHT
BEGIN:STANDARD
TZOFFSETFROM:+0200
TZOFFSETTO:+0100
TZNAME:CET
DTSTART:20261025T010000
END:STANDARD
BEGIN:DAYLIGHT
TZOFFSETFROM:+0100
TZOFFSETTO:+0200
TZNAME:CEST
DTSTART:20270328T010000
END:DAYLIGHT
BEGIN:STANDARD
TZOFFSETFROM:+0200
TZOFFSETTO:+0100
TZNAME:CET
DTSTART:20271031T010000
END:STANDARD
BEGIN:DAYLIGHT
TZOFFSETFROM:+0100
TZOFFSETTO:+0200
TZNAME:CEST
DTSTART:20280326T010000
END:DAYLIGHT
BEGIN:STANDARD
TZOFFSETFROM:+0200
TZOFFSETTO:+0100
TZNAME:CET
DTSTART:20281029T010000
END:STANDARD
END:VTIMEZONE
BEGIN:VEVENT
DTSTART;TZID=Europe/Berlin:20270502T100000
DTEND;TZID=Europe/Berlin:20270502T170000
DTSTAMP:20260421T094916
CREATED:20260420T005647Z
LAST-MODIFIED:20260421T072737Z
UID:4789-1809252000-1809277200@msc-harsewinkel.de
SUMMARY:Verkehrsübungsplatz
DESCRIPTION:
URL:https://msc-harsewinkel.de/event/verkehrsuebungsplatz-43/
END:VEVENT
BEGIN:VEVENT
DTSTART;TZID=Europe/Berlin:20270509T100000
DTEND;TZID=Europe/Berlin:20270509T170000
DTSTAMP:20260421T094916
CREATED:20260420T005647Z
LAST-MODIFIED:20260421T072737Z
UID:4790-1809856800-1809882000@msc-harsewinkel.de
SUMMARY:Verkehrsübungsplatz
DESCRIPTION:
URL:https://msc-harsewinkel.de/event/verkehrsuebungsplatz-44/
END:VEVENT
BEGIN:VEVENT
DTSTART;TZID=Europe/Berlin:20270516T100000
DTEND;TZID=Europe/Berlin:20270516T170000
DTSTAMP:20260421T094916
CREATED:20260420T005647Z
LAST-MODIFIED:20260421T072737Z
UID:4791-1810461600-1810486800@msc-harsewinkel.de
SUMMARY:Verkehrsübungsplatz
DESCRIPTION:
URL:https://msc-harsewinkel.de/event/verkehrsuebungsplatz-45/
END:VEVENT
BEGIN:VEVENT
DTSTART;TZID=Europe/Berlin:20270523T100000
DTEND;TZID=Europe/Berlin:20270523T170000
DTSTAMP:20260421T094916
CREATED:20260420T005647Z
LAST-MODIFIED:20260421T072737Z
UID:4792-1811066400-1811091600@msc-harsewinkel.de
SUMMARY:Verkehrsübungsplatz
DESCRIPTION:
URL:https://msc-harsewinkel.de/event/verkehrsuebungsplatz-46/
END:VEVENT
BEGIN:VEVENT
DTSTART;TZID=Europe/Berlin:20270530T100000
DTEND;TZID=Europe/Berlin:20270530T170000
DTSTAMP:20260421T094916
CREATED:20260420T005658Z
LAST-MODIFIED:20260421T072737Z
UID:4793-1811671200-1811696400@msc-harsewinkel.de
SUMMARY:Verkehrsübungsplatz
DESCRIPTION:
URL:https://msc-harsewinkel.de/event/verkehrsuebungsplatz-47/
END:VEVENT
END:VCALENDAR