BEGIN:VCALENDAR
VERSION:2.0
PRODID:-//MSC Harsewinkel - ECPv6.15.20//NONSGML v1.0//EN
CALSCALE:GREGORIAN
METHOD:PUBLISH
X-WR-CALNAME:MSC Harsewinkel
X-ORIGINAL-URL:https://msc-harsewinkel.de
X-WR-CALDESC:Veranstaltungen für MSC Harsewinkel
REFRESH-INTERVAL;VALUE=DURATION:PT1H
X-Robots-Tag:noindex
X-PUBLISHED-TTL:PT1H
BEGIN:VTIMEZONE
TZID:Europe/Berlin
BEGIN:DAYLIGHT
TZOFFSETFROM:+0100
TZOFFSETTO:+0200
TZNAME:CEST
DTSTART:20260329T010000
END:DAYLIGHT
BEGIN:STANDARD
TZOFFSETFROM:+0200
TZOFFSETTO:+0100
TZNAME:CET
DTSTART:20261025T010000
END:STANDARD
BEGIN:DAYLIGHT
TZOFFSETFROM:+0100
TZOFFSETTO:+0200
TZNAME:CEST
DTSTART:20270328T010000
END:DAYLIGHT
BEGIN:STANDARD
TZOFFSETFROM:+0200
TZOFFSETTO:+0100
TZNAME:CET
DTSTART:20271031T010000
END:STANDARD
BEGIN:DAYLIGHT
TZOFFSETFROM:+0100
TZOFFSETTO:+0200
TZNAME:CEST
DTSTART:20280326T010000
END:DAYLIGHT
BEGIN:STANDARD
TZOFFSETFROM:+0200
TZOFFSETTO:+0100
TZNAME:CET
DTSTART:20281029T010000
END:STANDARD
END:VTIMEZONE
BEGIN:VEVENT
DTSTART;TZID=Europe/Berlin:20270704T100000
DTEND;TZID=Europe/Berlin:20270704T170000
DTSTAMP:20260421T125041
CREATED:20260420T005658Z
LAST-MODIFIED:20260421T102826Z
UID:4798-1814695200-1814720400@msc-harsewinkel.de
SUMMARY:Verkehrsübungsplatz
DESCRIPTION:
URL:https://msc-harsewinkel.de/event/verkehrsuebungsplatz-52/
END:VEVENT
BEGIN:VEVENT
DTSTART;TZID=Europe/Berlin:20270711T100000
DTEND;TZID=Europe/Berlin:20270711T170000
DTSTAMP:20260421T125041
CREATED:20260420T005659Z
LAST-MODIFIED:20260421T102826Z
UID:4799-1815300000-1815325200@msc-harsewinkel.de
SUMMARY:Verkehrsübungsplatz
DESCRIPTION:
URL:https://msc-harsewinkel.de/event/verkehrsuebungsplatz-53/
END:VEVENT
BEGIN:VEVENT
DTSTART;TZID=Europe/Berlin:20270718T100000
DTEND;TZID=Europe/Berlin:20270718T170000
DTSTAMP:20260421T125041
CREATED:20260420T005659Z
LAST-MODIFIED:20260421T102826Z
UID:4800-1815904800-1815930000@msc-harsewinkel.de
SUMMARY:Verkehrsübungsplatz
DESCRIPTION:
URL:https://msc-harsewinkel.de/event/verkehrsuebungsplatz-54/
END:VEVENT
BEGIN:VEVENT
DTSTART;TZID=Europe/Berlin:20270725T100000
DTEND;TZID=Europe/Berlin:20270725T170000
DTSTAMP:20260421T125041
CREATED:20260420T005659Z
LAST-MODIFIED:20260421T102826Z
UID:4801-1816509600-1816534800@msc-harsewinkel.de
SUMMARY:Verkehrsübungsplatz
DESCRIPTION:
URL:https://msc-harsewinkel.de/event/verkehrsuebungsplatz-55/
END:VEVENT
END:VCALENDAR