BEGIN:VCALENDAR
VERSION:2.0
PRODID:-//MSC Harsewinkel - ECPv6.15.20//NONSGML v1.0//EN
CALSCALE:GREGORIAN
METHOD:PUBLISH
X-ORIGINAL-URL:https://msc-harsewinkel.de
X-WR-CALDESC:Veranstaltungen für MSC Harsewinkel
REFRESH-INTERVAL;VALUE=DURATION:PT1H
X-Robots-Tag:noindex
X-PUBLISHED-TTL:PT1H
BEGIN:VTIMEZONE
TZID:Europe/Berlin
BEGIN:DAYLIGHT
TZOFFSETFROM:+0100
TZOFFSETTO:+0200
TZNAME:CEST
DTSTART:20260329T010000
END:DAYLIGHT
BEGIN:STANDARD
TZOFFSETFROM:+0200
TZOFFSETTO:+0100
TZNAME:CET
DTSTART:20261025T010000
END:STANDARD
BEGIN:DAYLIGHT
TZOFFSETFROM:+0100
TZOFFSETTO:+0200
TZNAME:CEST
DTSTART:20270328T010000
END:DAYLIGHT
BEGIN:STANDARD
TZOFFSETFROM:+0200
TZOFFSETTO:+0100
TZNAME:CET
DTSTART:20271031T010000
END:STANDARD
BEGIN:DAYLIGHT
TZOFFSETFROM:+0100
TZOFFSETTO:+0200
TZNAME:CEST
DTSTART:20280326T010000
END:DAYLIGHT
BEGIN:STANDARD
TZOFFSETFROM:+0200
TZOFFSETTO:+0100
TZNAME:CET
DTSTART:20281029T010000
END:STANDARD
END:VTIMEZONE
BEGIN:VEVENT
DTSTART;TZID=Europe/Berlin:20271003T100000
DTEND;TZID=Europe/Berlin:20271003T170000
DTSTAMP:20260421T211026
CREATED:20260420T005712Z
LAST-MODIFIED:20260421T185739Z
UID:4811-1822557600-1822582800@msc-harsewinkel.de
SUMMARY:Verkehrsübungsplatz
DESCRIPTION:
URL:https://msc-harsewinkel.de/event/verkehrsuebungsplatz-65/
END:VEVENT
BEGIN:VEVENT
DTSTART;TZID=Europe/Berlin:20271010T100000
DTEND;TZID=Europe/Berlin:20271010T170000
DTSTAMP:20260421T211026
CREATED:20260420T005712Z
LAST-MODIFIED:20260421T185739Z
UID:4812-1823162400-1823187600@msc-harsewinkel.de
SUMMARY:Verkehrsübungsplatz
DESCRIPTION:
URL:https://msc-harsewinkel.de/event/verkehrsuebungsplatz-66/
END:VEVENT
BEGIN:VEVENT
DTSTART;TZID=Europe/Berlin:20271017T100000
DTEND;TZID=Europe/Berlin:20271017T170000
DTSTAMP:20260421T211026
CREATED:20260420T005724Z
LAST-MODIFIED:20260421T185739Z
UID:4813-1823767200-1823792400@msc-harsewinkel.de
SUMMARY:Verkehrsübungsplatz
DESCRIPTION:
URL:https://msc-harsewinkel.de/event/verkehrsuebungsplatz-67/
END:VEVENT
BEGIN:VEVENT
DTSTART;TZID=Europe/Berlin:20271024T100000
DTEND;TZID=Europe/Berlin:20271024T170000
DTSTAMP:20260421T211026
CREATED:20260420T005724Z
LAST-MODIFIED:20260421T185739Z
UID:4814-1824372000-1824397200@msc-harsewinkel.de
SUMMARY:Verkehrsübungsplatz
DESCRIPTION:
URL:https://msc-harsewinkel.de/event/verkehrsuebungsplatz-68/
END:VEVENT
BEGIN:VEVENT
DTSTART;TZID=Europe/Berlin:20271031T100000
DTEND;TZID=Europe/Berlin:20271031T170000
DTSTAMP:20260421T211026
CREATED:20260420T005724Z
LAST-MODIFIED:20260421T185751Z
UID:4815-1824976800-1825002000@msc-harsewinkel.de
SUMMARY:Verkehrsübungsplatz
DESCRIPTION:
URL:https://msc-harsewinkel.de/event/verkehrsuebungsplatz-69/
END:VEVENT
END:VCALENDAR